View In:
ArcGIS JavaScript
ArcGIS Online Map Viewer
ArcGIS Earth
Service Description: This product consists of aerial photography photomaps taken between 1978 and 1982. Photomaps are scanned as JPEG files at a resolution of 300dpi with high compression, georeferenced, and mosaicked. These are georeferenced by township corners only. Accuracy is not gauranteed.
Name: Township_Photomap_Scans
Description: This product consists of aerial photography photomaps taken between 1978 and 1982. Photomaps are scanned as JPEG files at a resolution of 300dpi with high compression, georeferenced, and mosaicked. These are georeferenced by township corners only. Accuracy is not gauranteed.
Single Fused Map Cache: false
Extent:
XMin: 301727.5505999997
YMin: 5429953.693866652
XMax: 766070.8648144321
YMax: 5888003.390000001
Spatial Reference: 26913
(26913)
LatestVCSWkid(0)
Initial Extent:
XMin: 301727.5505999997
YMin: 5429953.693866652
XMax: 766070.8648144321
YMax: 5888003.390000001
Spatial Reference: 26913
(26913)
LatestVCSWkid(0)
Full Extent:
XMin: 301727.5505999997
YMin: 5429953.693866652
XMax: 766070.8648144321
YMax: 5888003.390000001
Spatial Reference: 26913
(26913)
LatestVCSWkid(0)
Pixel Size X: 1.721920131623684
Pixel Size Y: 1.7219201316236854
Band Count: 1
Pixel Type: U8
RasterFunction Infos: {"rasterFunctionInfos": [{
"name": "None",
"description": "A No-Op Function.",
"help": ""
}]}
Mensuration Capabilities: None
Inspection Capabilities:
Has Histograms: true
Has Colormap: false
Has Multi Dimensions : false
Rendering Rule:
Min Scale: 0
Max Scale: 0
Resampling: false
Copyright Text: Central Survey and Mapping Agency
Service Data Type: esriImageServiceDataTypeGeneric
Min Values: 0
Max Values: 255
Mean Values: 162.89778324418933
Standard Deviation Values: 35.320181492025874
Object ID Field: OBJECTID
Fields:
-
OBJECTID
(
type: esriFieldTypeOID, alias: OBJECTID
)
-
Shape
(
type: esriFieldTypeGeometry, alias: Shape
)
-
Name
(
type: esriFieldTypeString, alias: Name, length: 200
)
-
Category
(
type: esriFieldTypeInteger, alias: Category
, Coded Values:
[0: Unknown]
, [1: Primary]
, [2: Overview]
, ...6 more...
)
-
Source
(
type: esriFieldTypeString, alias: Source, length: 50
)
-
Start_Year
(
type: esriFieldTypeSmallInteger, alias: Start_Year
)
-
Year_of_Data
(
type: esriFieldTypeSmallInteger, alias: End_Year
)
-
Date_of_Data
(
type: esriFieldTypeDate, alias: Date_of_Data, length: 8
)
-
Accuracy
(
type: esriFieldTypeString, alias: Accuracy, length: 50
)
-
Resolution
(
type: esriFieldTypeSingle, alias: Resolution
)
-
Project_Area_Name
(
type: esriFieldTypeString, alias: Project_Area_Name, length: 50
)
-
Copyright
(
type: esriFieldTypeString, alias: Copyright, length: 10
)
Default Mosaic Method: Northwest
Allowed Mosaic Methods: NorthWest,ByAttribute
SortField:
SortValue: null
Mosaic Operator: First
Default Compression Quality: 75
Default Resampling Method: Bilinear
Max Record Count: 1000
Max Image Height: 4100
Max Image Width: 15000
Max Download Image Count: 0
Max Mosaic Image Count: 20
Allow Raster Function: true
Allow Copy: true
Allow Analysis: true
Allow Compute TiePoints: false
Supports Statistics: true
Supports Advanced Queries: true
Use StandardizedQueries: true
Raster Type Infos:
Name: Raster Dataset
Description: Supports all ArcGIS Raster Datasets
Help:
Has Raster Attribute Table: false
Edit Fields Info: null
Ownership Based AccessControl For Rasters: null
Child Resources:
Info
Histograms
Statistics
Key Properties
Legend
Raster Function Infos
Supported Operations:
Export Image
Query
Identify
Compute Histograms
Compute Statistics Histograms
Get Samples
Compute Class Statistics
Query GPS Info
Find Images
Image to Map
Map to Image
Measure from Image
Image to Map Multiray
Query Boundary
Compute Pixel Location
Compute Angles
Validate
Project