View In:
ArcGIS JavaScript
ArcGIS Online Map Viewer
ArcGIS Earth
Service Description: Economy/Aeromag_First_Vertical_Derivative_200m_col_image
Name: Economy/Aeromag_First_Vertical_Derivative_200m_col_image
Description:
Single Fused Map Cache: false
Extent:
XMin: 127549.9999999995
YMin: 5414949.99996565
XMax: 772549.9813433825
YMax: 6674349.96357032
Spatial Reference: 2151
(2957)
LatestVCSWkid(0)
Initial Extent:
XMin: 127549.9999999995
YMin: 5414949.99996565
XMax: 772549.9813433825
YMax: 6674349.96357032
Spatial Reference: 2151
(2957)
LatestVCSWkid(0)
Full Extent:
XMin: 127549.9999999995
YMin: 5414949.99996565
XMax: 772549.9813433825
YMax: 6674349.96357032
Spatial Reference: 2151
(2957)
LatestVCSWkid(0)
Pixel Size X: 199.99999421500246
Pixel Size Y: 199.99999422021122
Band Count: 3
Pixel Type: U8
RasterFunction Infos: {"rasterFunctionInfos": [{
"name": "None",
"description": "",
"help": ""
}]}
Mensuration Capabilities: Basic
Inspection Capabilities:
Has Histograms: true
Has Colormap: false
Has Multi Dimensions : false
Rendering Rule:
Min Scale: 0
Max Scale: 0
Copyright Text:
Service Data Type: esriImageServiceDataTypeRGB
Min Values: 0, 0, 0
Max Values: 255, 255, 255
Mean Values: 172.2350227067645, 176.62049739447724, 157.50140170106843
Standard Deviation Values: 110.73353212032245, 101.18624779406306, 110.15381403721175
Object ID Field:
Fields:
None
Default Mosaic Method: Center
Allowed Mosaic Methods:
SortField:
SortValue: null
Mosaic Operator: First
Default Compression Quality: 75
Default Resampling Method: Bilinear
Max Record Count: null
Max Image Height: 4100
Max Image Width: 15000
Max Download Image Count: null
Max Mosaic Image Count: null
Allow Raster Function: true
Allow Copy: true
Allow Analysis: true
Allow Compute TiePoints: false
Supports Statistics: false
Supports Advanced Queries: false
Use StandardizedQueries: true
Raster Type Infos:
Name: Raster Dataset
Description: Supports all ArcGIS Raster Datasets
Help:
Has Raster Attribute Table: false
Edit Fields Info: null
Ownership Based AccessControl For Rasters: null
Child Resources:
Info
Histograms
Statistics
Key Properties
Legend
Raster Function Infos
Supported Operations:
Export Image
Identify
Measure
Compute Histograms
Compute Statistics Histograms
Get Samples
Compute Class Statistics
Query Boundary
Compute Pixel Location
Compute Angles
Validate
Project