<?xml version="1.0" encoding="UTF-8" standalone="no"?>
<metadata xml:lang="en">
<Esri>
<CreaDate>20211004</CreaDate>
<CreaTime>13584000</CreaTime>
<ArcGISFormat>1.0</ArcGISFormat>
<ArcGISstyle>North American Profile of ISO19115 2003</ArcGISstyle>
<SyncOnce>FALSE</SyncOnce>
<DataProperties>
<lineage>
<Process Date="20211004" Name="" Time="135840" ToolSource="c:\program files (x86)\arcgis\desktop10.8\ArcToolbox\Toolboxes\Data Management Tools.tbx\CreateRasterDataset" export="">CreateRasterDataset "G:\MLRP\SGS\DataMan\Geocortex site\2020_GeoAtlas_updates\2020_GeoAtlas_Updates.gdb" Aeromag_First_Vertical_Derivative_200m_col # 8_BIT_UNSIGNED # 3 # "PYRAMIDS -1 NEAREST DEFAULT 75 NO_SKIP" "128 128" LZ77 #</Process>
<Process Date="20211004" Name="" Time="140037" ToolSource="c:\program files (x86)\arcgis\desktop10.8\ArcToolbox\Toolboxes\Data Management Tools.tbx\Mosaic" export="">Mosaic 'G:\MLRP\SGS\DataMan\Geocortex site\2020_GeoAtlas_updates\2020_GeoAtlas_Updates.gdb\T1stVD_RMI_200m_color' "G:\MLRP\SGS\DataMan\Geocortex site\2020_GeoAtlas_updates\2020_GeoAtlas_Updates.gdb\Aeromag_First_Vertical_Derivative_200m_col" LAST FIRST # # NONE 0 NONE</Process>
</lineage>
<itemProps>
<itemName Sync="TRUE">GEOLOGY.DBO.Aeromag_First_Vertical_Derivative_200m_col</itemName>
<imsContentType Sync="TRUE" export="False">002</imsContentType>
<nativeExtBox>
<westBL Sync="TRUE">127550.000000</westBL>
<eastBL Sync="TRUE">772549.981343</eastBL>
<southBL Sync="TRUE">5414950.000000</southBL>
<northBL Sync="TRUE">6674349.963570</northBL>
<exTypeCode Sync="TRUE">1</exTypeCode>
</nativeExtBox>
<itemLocation>
<linkage Sync="TRUE">Server=itovmw565t; Service=sde:sqlserver:itovmw565t; Database=GEOLOGY; User=geology; Version=sde.DEFAULT</linkage>
<protocol Sync="TRUE">ArcSDE Connection</protocol>
</itemLocation>
</itemProps>
<coordRef>
<type Sync="TRUE">Projected</type>
<geogcsn Sync="TRUE">GCS_North_American_1983_CSRS</geogcsn>
<csUnits Sync="TRUE">Linear Unit: Meter (1.000000)</csUnits>
<projcsn Sync="TRUE">NAD_1983_CSRS_UTM_Zone_13N</projcsn>
<peXml Sync="TRUE">&lt;ProjectedCoordinateSystem xsi:type='typens:ProjectedCoordinateSystem' xmlns:xsi='http://www.w3.org/2001/XMLSchema-instance' xmlns:xs='http://www.w3.org/2001/XMLSchema' xmlns:typens='http://www.esri.com/schemas/ArcGIS/10.8'&gt;&lt;WKT&gt;PROJCS[&amp;quot;NAD_1983_CSRS_UTM_Zone_13N&amp;quot;,GEOGCS[&amp;quot;GCS_North_American_1983_CSRS&amp;quot;,DATUM[&amp;quot;D_North_American_1983_CSRS&amp;quot;,SPHEROID[&amp;quot;GRS_1980&amp;quot;,6378137.0,298.257222101]],PRIMEM[&amp;quot;Greenwich&amp;quot;,0.0],UNIT[&amp;quot;Degree&amp;quot;,0.0174532925199433]],PROJECTION[&amp;quot;Transverse_Mercator&amp;quot;],PARAMETER[&amp;quot;False_Easting&amp;quot;,500000.0],PARAMETER[&amp;quot;False_Northing&amp;quot;,0.0],PARAMETER[&amp;quot;Central_Meridian&amp;quot;,-105.0],PARAMETER[&amp;quot;Scale_Factor&amp;quot;,0.9996],PARAMETER[&amp;quot;Latitude_Of_Origin&amp;quot;,0.0],UNIT[&amp;quot;Meter&amp;quot;,1.0],AUTHORITY[&amp;quot;EPSG&amp;quot;,2957]]&lt;/WKT&gt;&lt;XOrigin&gt;-5120900&lt;/XOrigin&gt;&lt;YOrigin&gt;-9998100&lt;/YOrigin&gt;&lt;XYScale&gt;450445547.3910538&lt;/XYScale&gt;&lt;ZOrigin&gt;-100000&lt;/ZOrigin&gt;&lt;ZScale&gt;10000&lt;/ZScale&gt;&lt;MOrigin&gt;-100000&lt;/MOrigin&gt;&lt;MScale&gt;10000&lt;/MScale&gt;&lt;XYTolerance&gt;0.001&lt;/XYTolerance&gt;&lt;ZTolerance&gt;0.00020000000000000001&lt;/ZTolerance&gt;&lt;MTolerance&gt;0.00020000000000000001&lt;/MTolerance&gt;&lt;HighPrecision&gt;true&lt;/HighPrecision&gt;&lt;WKID&gt;2151&lt;/WKID&gt;&lt;LatestWKID&gt;2957&lt;/LatestWKID&gt;&lt;/ProjectedCoordinateSystem&gt;</peXml>
</coordRef>
</DataProperties>
<ModDate>20211006</ModDate>
<ModTime>10401300</ModTime>
<SyncDate>20211006</SyncDate>
<SyncTime>10400000</SyncTime>
<scaleRange>
<minScale>150000000</minScale>
<maxScale>5000</maxScale>
</scaleRange>
<ArcGISProfile>NAP</ArcGISProfile>
</Esri>
<mdDateSt Sync="TRUE">20211006</mdDateSt>
<dataIdInfo>
<envirDesc Sync="TRUE"> Version 6.2 (Build 9200) ; Esri ArcGIS 10.8.1.14362</envirDesc>
<dataLang>
<languageCode Sync="TRUE" value="eng"/>
<countryCode Sync="TRUE" value="USA"/>
</dataLang>
<idCitation>
<resTitle Sync="FALSE">RasterTest</resTitle>
<presForm>
<PresFormCd Sync="TRUE" value="011"/>
</presForm>
<citRespParty>
<rpIndName>Omid Mahmoodi</rpIndName>
<rpOrgName>Saskatchewan Geological Survey</rpOrgName>
<rpPosName>Geophysicist</rpPosName>
<role>
<RoleCd value="012"/>
</role>
<rpCntInfo>
<cntAddress addressType="">
<eMailAdd>omid.mahmoodi@gov.sk.ca</eMailAdd>
</cntAddress>
</rpCntInfo>
</citRespParty>
</idCitation>
<spatRpType>
<SpatRepTypCd Sync="TRUE" value="002"/>
</spatRpType>
<dataExt>
<geoEle>
<GeoBndBox esriExtentType="search">
<exTypeCode Sync="TRUE">1</exTypeCode>
<westBL Sync="TRUE">-111.692407</westBL>
<eastBL Sync="TRUE">-100.093582</eastBL>
<northBL Sync="TRUE">60.205970</northBL>
<southBL Sync="TRUE">48.775862</southBL>
</GeoBndBox>
</geoEle>
</dataExt>
<idPurp>This dataset is a coloured raster image of the Residual Total Magnetic Field - Vertical Derivative of the Province of Saskatchewan, derived from aeromagnetic surveys maintained by the Geological Survey of Canada.</idPurp>
<idAbs>&lt;DIV STYLE="text-align:Left;"&gt;&lt;DIV&gt;&lt;DIV&gt;&lt;P STYLE="margin:0 0 0 0;"&gt;&lt;SPAN&gt;&lt;SPAN&gt;These maps were compiled using aeromagnetic profile data obtained from the National Aeromagnetic Database of Canada maintained by the Geological Survey of Canada. The data were obtained from aeromagnetic surveys flown at an altitude of 300m mean terrain clearance and surveys flown at constant barometric altitudes. The data have been digitally recorded or digitized from existing aeromagnetic maps. Flight line spacing varies from the GSC regional coverage standard of 800m up to 3200m for some industry data over areas of thick sedimentary basins.&lt;/SPAN&gt;&lt;/SPAN&gt;&lt;/P&gt;&lt;P&gt;&lt;SPAN /&gt;&lt;/P&gt;&lt;/DIV&gt;&lt;/DIV&gt;&lt;/DIV&gt;</idAbs>
<idCredit>Geological Survey of Canada and the Saskatchewan Geological Survey.</idCredit>
<searchKeys>
<keyword>aeromagnetic</keyword>
<keyword>vertical derivative</keyword>
<keyword>aeromag</keyword>
</searchKeys>
<dataChar>
<CharSetCd value="004"/>
</dataChar>
<idPoC>
<editorSource>external</editorSource>
<editorDigest>f156fa7d9e53ba463f0b2fd2b122b7cf</editorDigest>
<rpIndName>Ryan Morelli</rpIndName>
<rpOrgName>Saskatchewan Geological Survey</rpOrgName>
<rpPosName>Assistant Chief Geologist</rpPosName>
<rpCntInfo>
<cntAddress addressType="">
<eMailAdd>ryan.morelli@gov.sk.ca</eMailAdd>
</cntAddress>
</rpCntInfo>
<editorSave>True</editorSave>
<displayName>Ryan Morelli</displayName>
<role>
<RoleCd value="003"/>
</role>
</idPoC>
<resMaint>
<maintFreq>
<MaintFreqCd value="010"/>
</maintFreq>
</resMaint>
<resConst>
<Consts>
<useLimit>&lt;DIV STYLE="text-align:Left;"&gt;&lt;DIV&gt;&lt;DIV&gt;&lt;P STYLE="margin:0 0 14 0;"&gt;&lt;SPAN&gt;&lt;SPAN&gt;Although the Ministry has exercised all reasonable care in the compilation, interpretation, and production of this item, it is not possible to ensure total accuracy, and all persons who rely on the information contained herein do so at their own risk. The Ministry and the Government of Saskatchewan do not accept liability for any errors, omissions, or inaccuracies that may be included in or derived from, this item.&lt;/SPAN&gt;&lt;/SPAN&gt;&lt;/P&gt;&lt;P&gt;&lt;SPAN /&gt;&lt;/P&gt;&lt;/DIV&gt;&lt;/DIV&gt;&lt;/DIV&gt;</useLimit>
</Consts>
</resConst>
<tpCat>
<TopicCatCd value="008"/>
</tpCat>
</dataIdInfo>
<mdLang>
<languageCode Sync="TRUE" value="eng"/>
<countryCode Sync="TRUE" value="USA"/>
</mdLang>
<distInfo>
<distFormat>
<formatName Sync="TRUE">SDE Raster Dataset</formatName>
</distFormat>
</distInfo>
<mdHrLv>
<ScopeCd Sync="TRUE" value="005"/>
</mdHrLv>
<mdHrLvName Sync="TRUE">dataset</mdHrLvName>
<refSysInfo>
<RefSystem dimension="">
<refSysID>
<identCode Sync="TRUE" code="2957"/>
<idCodeSpace Sync="TRUE">EPSG</idCodeSpace>
<idVersion Sync="TRUE">6.13(9.3.0.0)</idVersion>
</refSysID>
</RefSystem>
</refSysInfo>
<spdoinfo>
<rastinfo>
<rasttype Sync="TRUE">Pixel</rasttype>
<rowcount Sync="TRUE">6297</rowcount>
<colcount Sync="TRUE">3225</colcount>
<rastxsz Sync="TRUE">199.999994</rastxsz>
<rastysz Sync="TRUE">199.999994</rastysz>
<rastbpp Sync="TRUE">8</rastbpp>
<vrtcount Sync="TRUE">1</vrtcount>
<rastorig Sync="TRUE">Upper Left</rastorig>
<rastcmap Sync="TRUE">FALSE</rastcmap>
<rastcomp Sync="TRUE">LZ77</rastcomp>
<rastband Sync="TRUE">3</rastband>
<rastdtyp Sync="TRUE">pixel codes</rastdtyp>
<rastifor Sync="TRUE">SDR</rastifor>
<rastplyr Sync="TRUE">TRUE</rastplyr>
</rastinfo>
</spdoinfo>
<spref>
<horizsys>
<planar>
<planci>
<plance Sync="TRUE">row and column</plance>
<coordrep>
<absres Sync="TRUE">199.999994</absres>
<ordres Sync="TRUE">199.999994</ordres>
</coordrep>
</planci>
</planar>
</horizsys>
</spref>
<mdFileID>6E022531-02DC-4DD5-8996-353D0BB61053</mdFileID>
<mdChar>
<CharSetCd value="004"/>
</mdChar>
<mdContact>
<rpIndName>Thomas Love</rpIndName>
<rpOrgName>Saskatchewan Geological Survey</rpOrgName>
<rpPosName>GIS Analyst</rpPosName>
<role>
<RoleCd value="011"/>
</role>
<rpCntInfo>
<cntAddress addressType="">
<eMailAdd>thomas.love@gov.sk.ca</eMailAdd>
</cntAddress>
</rpCntInfo>
</mdContact>
<mdMaint>
<maintFreq>
<MaintFreqCd value="010"/>
</maintFreq>
</mdMaint>
</metadata>
